BEGIN:VCALENDAR
VERSION:2.0
PRODID:-//pretix//pretix.eu//
BEGIN:VTIMEZONE
TZID:Europe/Berlin
BEGIN:STANDARD
DTSTART:20001029T040000
RRULE:FREQ=YEARLY;BYDAY=-1SU;BYMONTH=10
TZNAME:CET
TZOFFSETFROM:+0200
TZOFFSETTO:+0100
END:STANDARD
BEGIN:DAYLIGHT
DTSTART:20000326T030000
RRULE:FREQ=YEARLY;BYDAY=-1SU;BYMONTH=3
TZNAME:CEST
TZOFFSETFROM:+0100
TZOFFSETTO:+0200
END:DAYLIGHT
END:VTIMEZONE
BEGIN:VEVENT
UID:pretix-ztl-sicher26b-0@events.ztl.space
DTSTART;TZID=Europe/Berlin:20260509T100000
DTEND;TZID=Europe/Berlin:20260509T110000
DESCRIPTION:Tickets: https://events.ztl.space/sicher26b/\nVeranstalter: ZTL
  - Zentrum für Technikkultur Landau e. V.
DTSTAMP:20260422T141225Z
LOCATION:ZTL e.V:\, Klaus-von-Klitzing Str. 2\, 76820 Landau
SUMMARY:Sicherheitsunterweisung  Mai 2026
END:VEVENT
END:VCALENDAR
